BEGIN:VCALENDAR
VERSION:2.0
PRODID:-//AudioTheme 2.3.8
BEGIN:VEVENT
UID:urn:uuid:7b8246ee-479f-4508-b866-5b136b8648e7
URL:https://mitchmcvicker.com/concerts/gig-2645/
DTSTART;VALUE=DATE:20050924
SUMMARY:Batesville Church of Christ
LOCATION:Batesville Church of Christ\, Batesville\, IN
END:VEVENT
END:VCALENDAR
