BEGIN:VCALENDAR
VERSION:2.0
PRODID:-//AudioTheme 2.3.8
BEGIN:VEVENT
UID:urn:uuid:1e7fd8dd-13d3-4d9f-a63b-928a2ccb8a27
URL:https://mitchmcvicker.com/concerts/gig-2643/
DTSTART;VALUE=DATE:20050923
SUMMARY:Cincinnati Christian University- Benefit Concert for a Rich Mullins Scholarship-Worship and Ministry Center
LOCATION:Cincinnati Christian University- Benefit Concert for a Rich Mullins Scholarship-Worship and Ministry Center\, Cincinnati\, OH
END:VEVENT
END:VCALENDAR
