BEGIN:VCALENDAR
VERSION:2.0
PRODID:-//AudioTheme 2.3.8
BEGIN:VEVENT
UID:urn:uuid:68c952f1-b351-4ec7-b257-d1b15cf357e7
URL:https://mitchmcvicker.com/concerts/gig-2641/
DTSTART;VALUE=DATE:20050922
SUMMARY:First Christian Church
LOCATION:First Christian Church\, Martinsville\, IN
END:VEVENT
END:VCALENDAR
