BEGIN:VCALENDAR
VERSION:2.0
PRODID:-//AudioTheme 2.3.8
BEGIN:VEVENT
UID:urn:uuid:821499b0-656c-4b05-a9f1-2f928c7e2cc6
URL:https://mitchmcvicker.com/concerts/gig-2639/
DTSTART;VALUE=DATE:20050921
SUMMARY:Union University Coburn Dining Hall
LOCATION:Union University Coburn Dining Hall\, Jackson\, TN
END:VEVENT
END:VCALENDAR
