BEGIN:VCALENDAR
VERSION:2.0
PRODID:-//AudioTheme 2.3.8
BEGIN:VEVENT
UID:urn:uuid:8dc281d4-e430-4c76-839b-fc076f6406a3
URL:https://mitchmcvicker.com/concerts/gig-2637/
DTSTART;VALUE=DATE:20050920
SUMMARY:Temple  Baptist Church
LOCATION:Temple  Baptist Church\, 1200 Truman Road\, Caruthersville\, MO
END:VEVENT
END:VCALENDAR
