BEGIN:VCALENDAR
VERSION:2.0
PRODID:-//AudioTheme 2.3.8
BEGIN:VEVENT
UID:urn:uuid:2c383c7e-bffc-4824-9511-c2b308774e0b
URL:https://mitchmcvicker.com/concerts/gig-2635/
DTSTART;VALUE=DATE:20050918
SUMMARY:Rose Heights Church
LOCATION:Rose Heights Church\, Tyler\, TX
END:VEVENT
END:VCALENDAR
