BEGIN:VCALENDAR
VERSION:2.0
PRODID:-//AudioTheme 2.3.8
BEGIN:VEVENT
UID:urn:uuid:b35765fd-64db-4208-935e-d5679c557a84
URL:https://mitchmcvicker.com/concerts/gig-2633/
DTSTART;VALUE=DATE:20050918
SUMMARY:Hope Assembly of God
LOCATION:Hope Assembly of God\, Murchison\, TX
END:VEVENT
END:VCALENDAR
