BEGIN:VCALENDAR
VERSION:2.0
PRODID:-//AudioTheme 2.3.8
BEGIN:VEVENT
UID:urn:uuid:8f55c5bd-6149-42f1-b844-a825ffc4871d
URL:https://mitchmcvicker.com/concerts/gig-2631/
DTSTART;VALUE=DATE:20050917
SUMMARY:Greenville High School
LOCATION:Greenville High School\, Greenville\, TX
END:VEVENT
END:VCALENDAR
