BEGIN:VCALENDAR
VERSION:2.0
PRODID:-//AudioTheme 2.3.8
BEGIN:VEVENT
UID:urn:uuid:fbaac6f7-bbce-4211-8f53-f616ff81aa08
URL:https://mitchmcvicker.com/concerts/gig-2629/
DTSTART;VALUE=DATE:20050916
SUMMARY:Journey Fellowship
LOCATION:Journey Fellowship\, San Antonio\, TX
END:VEVENT
END:VCALENDAR
