BEGIN:VCALENDAR
VERSION:2.0
PRODID:-//AudioTheme 2.3.8
BEGIN:VEVENT
UID:urn:uuid:919cbd62-f5df-4a79-9c3d-0cf379953824
URL:https://mitchmcvicker.com/concerts/gig-2627/
DTSTART;VALUE=DATE:20050915
SUMMARY:University of Houston-A.D. Bruce Religion Center, Main Chapel
LOCATION:University of Houston-A.D. Bruce Religion Center\, Main Chapel\, Houston\, TX
END:VEVENT
END:VCALENDAR
