BEGIN:VCALENDAR
VERSION:2.0
PRODID:-//AudioTheme 2.3.8
BEGIN:VEVENT
UID:urn:uuid:5cbbb36f-241d-4c7d-bfcb-7d386f8cdbb0
URL:https://mitchmcvicker.com/concerts/gig-2626/
DTSTART;VALUE=DATE:20050914
SUMMARY:Piney Grove United Methodist Church-Big House
LOCATION:Piney Grove United Methodist Church-Big House\, Hot Springs\, AR
END:VEVENT
END:VCALENDAR
