BEGIN:VCALENDAR
VERSION:2.0
PRODID:-//AudioTheme 2.3.8
BEGIN:VEVENT
UID:urn:uuid:cb2c98a5-f43c-4e29-b21c-13412efbea91
URL:https://mitchmcvicker.com/concerts/gig-2622/
DTSTART;VALUE=DATE:20050913
SUMMARY:Black  River Technical College Development Center
LOCATION:Black  River Technical College Development Center\, Pocahantus\, AR
END:VEVENT
END:VCALENDAR
