BEGIN:VCALENDAR
VERSION:2.0
PRODID:-//AudioTheme 2.3.8
BEGIN:VEVENT
UID:urn:uuid:d768bd02-0b3e-4443-9ee0-2797ce306200
URL:https://mitchmcvicker.com/concerts/gig-2621/
DTSTART;VALUE=DATE:20050911
SUMMARY:Love of Christ Church
LOCATION:Love of Christ Church\, St. Cloud\, MN
END:VEVENT
END:VCALENDAR
