BEGIN:VCALENDAR
VERSION:2.0
PRODID:-//AudioTheme 2.3.8
BEGIN:VEVENT
UID:urn:uuid:a8532e41-bdbe-4f1a-b71c-df1bea5c0d66
URL:https://mitchmcvicker.com/concerts/gig-2619/
DTSTART;VALUE=DATE:20050910
SUMMARY:Yeshuapalooza 2005-Wilson Park Band Shell
LOCATION:Yeshuapalooza 2005-Wilson Park Band Shell\, Menomonie\, WI
END:VEVENT
END:VCALENDAR
