BEGIN:VCALENDAR
VERSION:2.0
PRODID:-//AudioTheme 2.3.8
BEGIN:VEVENT
UID:urn:uuid:827a2576-b7a4-421b-9501-209a641be851
URL:https://mitchmcvicker.com/concerts/gig-2617/
DTSTART;VALUE=DATE:20050909
SUMMARY:Lake Mills High School- Sponsored by Real Hope Community Church
LOCATION:Lake Mills High School- Sponsored by Real Hope Community Church\, Lake Mills\, WI
END:VEVENT
END:VCALENDAR
