BEGIN:VCALENDAR
VERSION:2.0
PRODID:-//AudioTheme 2.3.8
BEGIN:VEVENT
UID:urn:uuid:4a2d1639-6942-478c-ab0c-14876a1dc791
URL:https://mitchmcvicker.com/concerts/gig-2616/
DTSTART;VALUE=DATE:20050908
SUMMARY:St. Croix Art Barn
LOCATION:St. Croix Art Barn\, Osceola\, WI
END:VEVENT
END:VCALENDAR
