BEGIN:VCALENDAR
VERSION:2.0
PRODID:-//AudioTheme 2.3.8
BEGIN:VEVENT
UID:urn:uuid:88b784c4-96d6-45b1-b15e-7c3d0ebbca6d
URL:https://mitchmcvicker.com/concerts/gig-2614/
DTSTART;VALUE=DATE:20050907
SUMMARY:Lunda Park Band Shell
LOCATION:Lunda Park Band Shell\, Black River Falls\, WI
END:VEVENT
END:VCALENDAR
