BEGIN:VCALENDAR
VERSION:2.0
PRODID:-//AudioTheme 2.3.8
BEGIN:VEVENT
UID:urn:uuid:a21e7682-3bbc-43a4-b097-8af470ec54ef
URL:https://mitchmcvicker.com/concerts/gig-2611/
DTSTART;VALUE=DATE:20050828
SUMMARY:Calvary Worship Center
LOCATION:Calvary Worship Center\, Austin\, TX
END:VEVENT
END:VCALENDAR
