BEGIN:VCALENDAR
VERSION:2.0
PRODID:-//AudioTheme 2.3.8
BEGIN:VEVENT
UID:urn:uuid:1015de5b-69d3-4baa-8b6a-cf87aac5df4f
URL:https://mitchmcvicker.com/concerts/gig-2609/
DTSTART;VALUE=DATE:20050821
SUMMARY:Erlanger Baptist Church
LOCATION:Erlanger Baptist Church\, Erlanger\, KY
END:VEVENT
END:VCALENDAR
