BEGIN:VCALENDAR
VERSION:2.0
PRODID:-//AudioTheme 2.3.8
BEGIN:VEVENT
UID:urn:uuid:dc795ca6-199e-40bb-a9c9-75ebda4d8b94
URL:https://mitchmcvicker.com/concerts/gig-2607/
DTSTART;VALUE=DATE:20050820
SUMMARY:West Missionary Church
LOCATION:West Missionary Church\, Berne\, IN
END:VEVENT
END:VCALENDAR
