BEGIN:VCALENDAR
VERSION:2.0
PRODID:-//AudioTheme 2.3.8
BEGIN:VEVENT
UID:urn:uuid:84174eae-43d3-4d22-a9ff-2663981de679
URL:https://mitchmcvicker.com/concerts/gig-2602/
DTSTART;VALUE=DATE:20050819
SUMMARY:Hill Grove Baptist Church
LOCATION:Hill Grove Baptist Church\, Guston\, KY
END:VEVENT
END:VCALENDAR
