BEGIN:VCALENDAR
VERSION:2.0
PRODID:-//AudioTheme 2.3.8
BEGIN:VEVENT
UID:urn:uuid:c2d56f5c-4cce-4e76-ad78-49d690fd84ad
URL:https://mitchmcvicker.com/concerts/gig-2600/
DTSTART;VALUE=DATE:20050815
SUMMARY:Celebration First Assembly of God
LOCATION:Celebration First Assembly of God\, Waterloo\, IA
END:VEVENT
END:VCALENDAR
