BEGIN:VCALENDAR
VERSION:2.0
PRODID:-//AudioTheme 2.3.8
BEGIN:VEVENT
UID:urn:uuid:40d9e78f-ab4d-4123-ab5a-dbf37d2b9b43
URL:https://mitchmcvicker.com/concerts/gig-2597/
DTSTART;VALUE=DATE:20050813
SUMMARY:Bellevue Community Center
LOCATION:Bellevue Community Center\, Bellevue\, IA
END:VEVENT
END:VCALENDAR
