BEGIN:VCALENDAR
VERSION:2.0
PRODID:-//AudioTheme 2.3.8
BEGIN:VEVENT
UID:urn:uuid:3cf27696-15b4-4d85-b5cc-2b488ceaaa8b
URL:https://mitchmcvicker.com/concerts/gig-2595/
DTSTART;VALUE=DATE:20050812
SUMMARY:Asbury United Methodist Church
LOCATION:Asbury United Methodist Church\, Portland\, IN
END:VEVENT
END:VCALENDAR
