BEGIN:VCALENDAR
VERSION:2.0
PRODID:-//AudioTheme 2.3.8
BEGIN:VEVENT
UID:urn:uuid:e023bc78-1cef-4180-8cdd-e215192fd9f2
URL:https://mitchmcvicker.com/concerts/gig-2593/
DTSTART;VALUE=DATE:20050709
SUMMARY:Lifest 2005 Festuval
LOCATION:Lifest 2005 Festuval\, Osh Kosh\, WI
END:VEVENT
END:VCALENDAR
