BEGIN:VCALENDAR
VERSION:2.0
PRODID:-//AudioTheme 2.3.8
BEGIN:VEVENT
UID:urn:uuid:639315f2-f653-423a-9f32-a3d2188a7630
URL:https://mitchmcvicker.com/concerts/gig-2591/
DTSTART;VALUE=DATE:20050626
SUMMARY:Horizon Community Church
LOCATION:Horizon Community Church\, Highlands Ranch (near Littleton)\, CO
END:VEVENT
END:VCALENDAR
