BEGIN:VCALENDAR
VERSION:2.0
PRODID:-//AudioTheme 2.3.8
BEGIN:VEVENT
UID:urn:uuid:6a238c16-154e-4f57-89c8-a8853a502029
URL:https://mitchmcvicker.com/concerts/gig-2589/
DTSTART;VALUE=DATE:20050625
SUMMARY:St. Thomas More School
LOCATION:St. Thomas More School\, Centennial\, CO
END:VEVENT
END:VCALENDAR
