BEGIN:VCALENDAR
VERSION:2.0
PRODID:-//AudioTheme 2.3.8
BEGIN:VEVENT
UID:urn:uuid:749c98ca-db59-4c7e-ad17-bfa504b142af
URL:https://mitchmcvicker.com/concerts/gig-2587/
DTSTART;VALUE=DATE:20050528
SUMMARY:Kairos Kafe-Grace and Truth Church
LOCATION:Kairos Kafe-Grace and Truth Church\, Birmingham\, AL
END:VEVENT
END:VCALENDAR
