BEGIN:VCALENDAR
VERSION:2.0
PRODID:-//AudioTheme 2.3.8
BEGIN:VEVENT
UID:urn:uuid:c7fd72b0-9e1e-4fd1-b7d5-cafcc41c4bb2
URL:https://mitchmcvicker.com/concerts/gig-2585/
DTSTART;VALUE=DATE:20050527
SUMMARY:Mt. Hermon Lutheran Church
LOCATION:Mt. Hermon Lutheran Church\, 3011 Leaphart Rd.\, West Columbia\, SC
END:VEVENT
END:VCALENDAR
