BEGIN:VCALENDAR
VERSION:2.0
PRODID:-//AudioTheme 2.3.8
BEGIN:VEVENT
UID:urn:uuid:141df68c-6db0-4f83-8002-030b6307285a
URL:https://mitchmcvicker.com/concerts/gig-2583/
DTSTART;VALUE=DATE:20050522
SUMMARY:Faith Christian Academy
LOCATION:Faith Christian Academy\, Longs (Myrtle Beach)\, SC
END:VEVENT
END:VCALENDAR
