BEGIN:VCALENDAR
VERSION:2.0
PRODID:-//AudioTheme 2.3.8
BEGIN:VEVENT
UID:urn:uuid:dd67e31b-a740-49bd-b6f8-b6cd98da5ed8
URL:https://mitchmcvicker.com/concerts/gig-2582/
DTSTART;VALUE=DATE:20050521
SUMMARY:Ocean View United Methodist Church
LOCATION:Ocean View United Methodist Church\, Oak Island\, NC
END:VEVENT
END:VCALENDAR
