BEGIN:VCALENDAR
VERSION:2.0
PRODID:-//AudioTheme 2.3.8
BEGIN:VEVENT
UID:urn:uuid:a98f2f04-3502-4eff-927c-a6053b0ef726
URL:https://mitchmcvicker.com/concerts/gig-2580/
DTSTART;VALUE=DATE:20050520
SUMMARY:Southside Baptist Church
LOCATION:Southside Baptist Church\, Wilmington\, NC
END:VEVENT
END:VCALENDAR
