BEGIN:VCALENDAR
VERSION:2.0
PRODID:-//AudioTheme 2.3.8
BEGIN:VEVENT
UID:urn:uuid:3c5fe104-956b-4785-8338-4b013360ef2e
URL:https://mitchmcvicker.com/concerts/gig-2576/
DTSTART;VALUE=DATE:20050515
SUMMARY:Highland Park Community Church
LOCATION:Highland Park Community Church\, Casper\, WY
END:VEVENT
END:VCALENDAR
