BEGIN:VCALENDAR
VERSION:2.0
PRODID:-//AudioTheme 2.3.8
BEGIN:VEVENT
UID:urn:uuid:60da1b66-42e4-4f42-95e1-5762a947234e
URL:https://mitchmcvicker.com/concerts/gig-2574/
DTSTART;VALUE=DATE:20050514
SUMMARY:New Life Wesleyan Church
LOCATION:New Life Wesleyan Church\, Gillette\, WY
END:VEVENT
END:VCALENDAR
