BEGIN:VCALENDAR
VERSION:2.0
PRODID:-//AudioTheme 2.3.8
BEGIN:VEVENT
UID:urn:uuid:482787ba-2457-4fdd-9bb1-847032f6678b
URL:https://mitchmcvicker.com/concerts/gig-2573/
DTSTART;VALUE=DATE:20050513
SUMMARY:Hillcrest Baptist Church
LOCATION:Hillcrest Baptist Church\, Sioux Falls\, SD
END:VEVENT
END:VCALENDAR
