BEGIN:VCALENDAR
VERSION:2.0
PRODID:-//AudioTheme 2.3.8
BEGIN:VEVENT
UID:urn:uuid:dffed360-7333-429b-baeb-f6b60d386e5c
URL:https://mitchmcvicker.com/concerts/gig-2571/
DTSTART;VALUE=DATE:20050501
SUMMARY:First United Methodist Church
LOCATION:First United Methodist Church\, Leavenworth\, KS
END:VEVENT
END:VCALENDAR
