BEGIN:VCALENDAR
VERSION:2.0
PRODID:-//AudioTheme 2.3.8
BEGIN:VEVENT
UID:urn:uuid:6dc1b7e4-354b-4dcb-9933-b7039e2b58a6
URL:https://mitchmcvicker.com/concerts/gig-2569/
DTSTART;VALUE=DATE:20050430
SUMMARY:Gage Park Baptist Church
LOCATION:Gage Park Baptist Church\, Topeka\, KS
END:VEVENT
END:VCALENDAR
