BEGIN:VCALENDAR
VERSION:2.0
PRODID:-//AudioTheme 2.3.8
BEGIN:VEVENT
UID:urn:uuid:5a438784-2906-4f36-a3fa-1a2de366ea41
URL:https://mitchmcvicker.com/concerts/gig-2567/
DTSTART;VALUE=DATE:20050429
SUMMARY:Warrenton Christian Church
LOCATION:Warrenton Christian Church\, Warrenton\, MO
END:VEVENT
END:VCALENDAR
