BEGIN:VCALENDAR
VERSION:2.0
PRODID:-//AudioTheme 2.3.8
BEGIN:VEVENT
UID:urn:uuid:d9072b6a-f793-40ac-af6a-ef6a52921b68
URL:https://mitchmcvicker.com/concerts/gig-2565/
DTSTART;VALUE=DATE:20050428
SUMMARY:The Warehouse
LOCATION:The Warehouse\, Charleston\, IL
END:VEVENT
END:VCALENDAR
