BEGIN:VCALENDAR
VERSION:2.0
PRODID:-//AudioTheme 2.3.8
BEGIN:VEVENT
UID:urn:uuid:4fa2e31b-94c9-4b4d-9c9c-478035788ca0
URL:https://mitchmcvicker.com/concerts/gig-2563/
DTSTART;VALUE=DATE:20050427
SUMMARY:Southern Illinois University Student Center Auditorium
LOCATION:Southern Illinois University Student Center Auditorium\, Carbondale\, IL
END:VEVENT
END:VCALENDAR
