BEGIN:VCALENDAR
VERSION:2.0
PRODID:-//AudioTheme 2.3.8
BEGIN:VEVENT
UID:urn:uuid:59297067-00d6-4ce3-85b5-0af20a7e9829
URL:https://mitchmcvicker.com/concerts/gig-2561/
DTSTART;VALUE=DATE:20050423
SUMMARY:Dearborn Free Methodist Church
LOCATION:Dearborn Free Methodist Church\, Dearborn\, MI
END:VEVENT
END:VCALENDAR
