BEGIN:VCALENDAR
VERSION:2.0
PRODID:-//AudioTheme 2.3.8
BEGIN:VEVENT
UID:urn:uuid:c4364178-d5f4-4f82-bec2-602032c8febd
URL:https://mitchmcvicker.com/concerts/gig-2559/
DTSTART;VALUE=DATE:20050422
SUMMARY:Purdue Christian Campus House
LOCATION:Purdue Christian Campus House\, West Lafayette\, IN
END:VEVENT
END:VCALENDAR
