BEGIN:VCALENDAR
VERSION:2.0
PRODID:-//AudioTheme 2.3.8
BEGIN:VEVENT
UID:urn:uuid:a33e5a43-444c-4b73-9687-f6523f1732c3
URL:https://mitchmcvicker.com/concerts/gig-2558/
DTSTART;VALUE=DATE:20050421
SUMMARY:Praise Coffeehouse
LOCATION:Praise Coffeehouse\, Greenville\, IL
END:VEVENT
END:VCALENDAR
