BEGIN:VCALENDAR
VERSION:2.0
PRODID:-//AudioTheme 2.3.8
BEGIN:VEVENT
UID:urn:uuid:54b1d2c0-25a4-4c35-a102-a55bb736bd59
URL:https://mitchmcvicker.com/concerts/gig-2556/
DTSTART;VALUE=DATE:20050417
SUMMARY:First Assembly of God
LOCATION:First Assembly of God\, Hot Springs\, AR
END:VEVENT
END:VCALENDAR
