BEGIN:VCALENDAR
VERSION:2.0
PRODID:-//AudioTheme 2.3.8
BEGIN:VEVENT
UID:urn:uuid:069e80e6-e426-4f73-88bd-9867a2bcb2ed
URL:https://mitchmcvicker.com/concerts/gig-2554/
DTSTART;VALUE=DATE:20050417
SUMMARY:First Church of the Nazarene
LOCATION:First Church of the Nazarene\, West Memphis\, AR
END:VEVENT
END:VCALENDAR
