BEGIN:VCALENDAR
VERSION:2.0
PRODID:-//AudioTheme 2.3.8
BEGIN:VEVENT
UID:urn:uuid:16096999-5139-419e-9819-fca0dba6d781
URL:https://mitchmcvicker.com/concerts/gig-2552/
DTSTART;VALUE=DATE:20050416
SUMMARY:First Assembly of God
LOCATION:First Assembly of God\, West Memphis\, AR
END:VEVENT
END:VCALENDAR
