BEGIN:VCALENDAR
VERSION:2.0
PRODID:-//AudioTheme 2.3.8
BEGIN:VEVENT
UID:urn:uuid:aafe7726-5675-46d8-bd73-e69cea0eb450
URL:https://mitchmcvicker.com/concerts/gig-2550/
DTSTART;VALUE=DATE:20050415
SUMMARY:Windsor Baptist Church
LOCATION:Windsor Baptist Church\, Imperial\, MO
END:VEVENT
END:VCALENDAR
