BEGIN:VCALENDAR
VERSION:2.0
PRODID:-//AudioTheme 2.3.8
BEGIN:VEVENT
UID:urn:uuid:8b69839d-a89d-42ea-a216-df42852e31ef
URL:https://mitchmcvicker.com/concerts/gig-2548/
DTSTART;VALUE=DATE:20050414
SUMMARY:Southwoods Christian Church
LOCATION:Southwoods Christian Church\, Overland Park\, KS
END:VEVENT
END:VCALENDAR
