BEGIN:VCALENDAR
VERSION:2.0
PRODID:-//AudioTheme 2.3.8
BEGIN:VEVENT
UID:urn:uuid:b5a8abc9-21be-46c2-a369-947a83ef2ddc
URL:https://mitchmcvicker.com/concerts/gig-2546/
DTSTART;VALUE=DATE:20050413
SUMMARY:Community Christian Church
LOCATION:Community Christian Church\, Fort Scott\, KS
END:VEVENT
END:VCALENDAR
