BEGIN:VCALENDAR
VERSION:2.0
PRODID:-//AudioTheme 2.3.8
BEGIN:VEVENT
UID:urn:uuid:fc3d4761-e50e-4892-968c-10fec57b7629
URL:https://mitchmcvicker.com/concerts/gig-2544/
DTSTART;VALUE=DATE:20050410
SUMMARY:Calvary Christian Church
LOCATION:Calvary Christian Church\, Bellevue\, NE
END:VEVENT
END:VCALENDAR
